BEGIN:VCALENDAR
VERSION:2.0
PRODID:-//Personeelsvereniging SOP - ECPv6.15.20//NONSGML v1.0//EN
CALSCALE:GREGORIAN
METHOD:PUBLISH
X-WR-CALNAME:Personeelsvereniging SOP
X-ORIGINAL-URL:https://pvsop.nl
X-WR-CALDESC:Evenementen voor Personeelsvereniging SOP
REFRESH-INTERVAL;VALUE=DURATION:PT1H
X-Robots-Tag:noindex
X-PUBLISHED-TTL:PT1H
BEGIN:VTIMEZONE
TZID:UTC
BEGIN:STANDARD
TZOFFSETFROM:+0000
TZOFFSETTO:+0000
TZNAME:UTC
DTSTART:20230101T000000
END:STANDARD
END:VTIMEZONE
BEGIN:VEVENT
DTSTART;TZID=UTC:20251108T200000
DTEND;TZID=UTC:20251108T230000
DTSTAMP:20260424T063025
CREATED:20250806T123922Z
LAST-MODIFIED:20250807T101109Z
UID:557-1762632000-1762642800@pvsop.nl
SUMMARY:Pink Floyd Project – The Wall 45 Years
DESCRIPTION:Beleef ‘The Wall’ zoals je het nog nooit hebt gezien. \nNa uitverkochte zalen door het hele land is Pink Floyd Project terug met een spectaculaire eerbetoonshow: The Wall 45 Years. Deze unieke voorstelling is een visuele en muzikale belevenis die het legendarische album van Pink Floyd tot leven brengt\, compleet met quadrafonisch geluid\, actuele videoprojecties\, een vernieuwd decor en zelfs een live kinderkoor. \nTwee uur lang word je ondergedompeld in de sfeer van de iconische concerten uit 1980 en 1981\, met een moderne twist. De show raakt aan tijdloze thema’s als vervreemding\, macht en verzet – en weet daarmee ook vandaag de dag te raken. Muziek en beeld komen samen in een ervaring die je niet snel zult vergeten. \nDatum: zaterdag 8 november 2025\nTijd: 20.00 uur\nLocatie: MartiniPlaza\nInclusief: pauzedrankje en garderobe \nAls lid van de personeelsvereniging betaal je geen € 45\,70 maar € 34 \nNAAR DE AANBIEDING >
URL:https://pvsop.nl/event/pink-floyd-project-the-wall-45-years/
LOCATION:Matiniplaza Theater\, Leonard Springerlaan 2\, Groningen\, 9727 KB\, Nederland
ATTACH;FMTTYPE=image/jpeg:https://pvsop.nl/wp-content/uploads/2025/08/the-wall-1.jpg
ORGANIZER;CN="PVSOP":MAILTO:klantenservice@companypass.nl
END:VEVENT
BEGIN:VEVENT
DTSTART;TZID=UTC:20251031T200000
DTEND;TZID=UTC:20251031T230000
DTSTAMP:20260424T063025
CREATED:20250806T123228Z
LAST-MODIFIED:20250806T123228Z
UID:554-1761940800-1761951600@pvsop.nl
SUMMARY:Dear Evan Hansen – Internationale Broadway Hit!
DESCRIPTION:Dear Evan Hansen is niet zomaar een musical. Het is een verhaal dat je recht in het hart raakt. Over een onzekere tiener\, een kleine leugen die uitgroeit tot iets groots\, en de zoektocht naar verbinding in een wereld vol prestatiedruk en sociale media. \nMet muziek van de bekroonde makers van La La Land en The Greatest Showman brengt deze voorstelling een combinatie van rauwe emotie\, krachtige songs en een ijzersterke cast. Geen glitter en glamour – maar een verhaal dat blijft hangen\, lang nadat het doek gevallen is. \nDatum: vrijdag 31 oktober 2025\nTijd: 20.00 uur\nLocatie: MartiniPlaza\nInclusief: garderobe \nPVSOP leden betalen geen € 64\,70 maar € 48 \nNAAR AANBIEDING >
URL:https://pvsop.nl/event/dear-evan-hansen-internationale-broadway-hit/
LOCATION:Matiniplaza Theater\, Leonard Springerlaan 2\, Groningen\, 9727 KB\, Nederland
ATTACH;FMTTYPE=image/jpeg:https://pvsop.nl/wp-content/uploads/2025/08/Evan-Hansen-1.jpg
ORGANIZER;CN="PVSOP":MAILTO:klantenservice@companypass.nl
END:VEVENT
BEGIN:VEVENT
DTSTART;TZID=UTC:20251025T200000
DTEND;TZID=UTC:20251025T220000
DTSTAMP:20260424T063025
CREATED:20250806T122155Z
LAST-MODIFIED:20250807T101328Z
UID:549-1761422400-1761429600@pvsop.nl
SUMMARY:Jandino - "OMDAT JE LULT"
DESCRIPTION:Wanneer mensen je waarschuwen iets niet te doen\, maar je doet het toch… en het gaat mis? Dan is er maar één passende conclusie: OMDAT JE LULT. \nIn zijn nieuwste show neemt Jandino Asporaat geen blad voor de mond. Hij is rauwer dan ooit\, en houdt je op hilarische wijze een spiegel voor. Over relaties\, fouten\, eigenwijsheid en een maatschappij waarin iedereen de hoofdprijs wil zonder de inzet die erbij hoort. Herkenbaar\, confronterend\, maar vooral ontzettend grappig. \nDatum: zaterdag 25 oktober 2025\nTijd: 20.00 uur\nLocatie: MartiniPlaza\nInclusief: garderobe \nAls lid van de personeelsvereniging betaal je geen € 33\,70 maar slechts € 25! \nNAAR AANBIEDING >
URL:https://pvsop.nl/event/jandino-omdat-je-lult/
LOCATION:Matiniplaza Theater\, Leonard Springerlaan 2\, Groningen\, 9727 KB\, Nederland
ATTACH;FMTTYPE=image/jpeg:https://pvsop.nl/wp-content/uploads/2025/08/jandino-1.jpg
ORGANIZER;CN="PVSOP":MAILTO:klantenservice@companypass.nl
END:VEVENT
BEGIN:VEVENT
DTSTART;TZID=UTC:20250920T194500
DTEND;TZID=UTC:20250920T220000
DTSTAMP:20260424T063025
CREATED:20250806T120730Z
LAST-MODIFIED:20250807T101821Z
UID:545-1758397500-1758405600@pvsop.nl
SUMMARY:PVSOP Uitje: Een avond vol illusie met Victor Mids
DESCRIPTION:Altijd al willen weten hoe je hersenen je voor de gek houden? Of hoe ogenschijnlijk onmogelijke trucs tóch lijken te kloppen? Ga met de personeelsvereniging mee naar de magische wereld van Victor Mids! \nVictor Mids – bekend van MINDF*CK – staat garant voor een avond vol verwondering\, illusie en verrassende hersenkrakers. Tijdens deze intieme show in Zeegse word je uitgedaagd om je eigen zintuigen niet meer te vertrouwen. Wat is echt en wat niet? Laat je betoveren door zijn unieke combinatie van wetenschap en magie. \nDatum: zaterdag 20 september 2025\nTijd: deuren open om 19.45 uur\, show start om 20.15 uur\nLocatie: Fletcher Hotel-Restaurant De Zeegser Duinen\nAdres: Schipborgerweg 8\, 9483 TL Zeegse \nMeet & Greet: vanaf 21.45 uur \nNa afloop van de show is er een exclusieve Meet & Greet met Victor Mids. Dé kans om hem je vragen te stellen of een leuke foto te maken. Als lid van de personeelsvereniging betaal je geen € 49\,50 maar € 35 \nNAAR DE AANBIEDING > \nLet op: beperkt aantal plaatsen beschikbaar
URL:https://pvsop.nl/event/pvsop-uitje-een-avond-vol-illusie-met-victor-mids/
LOCATION:Fletcher hotel restaurant De Zeegser Duinen\, Schipborgerweg 8\, Zeegse\, Drenthe\, 9483 TL\, Netherlands
ATTACH;FMTTYPE=image/jpeg:https://pvsop.nl/wp-content/uploads/2025/08/Victormids-1.jpg
ORGANIZER;CN="PVSOP":MAILTO:klantenservice@companypass.nl
END:VEVENT
BEGIN:VEVENT
DTSTART;TZID=UTC:20250405T140000
DTEND;TZID=UTC:20250405T160000
DTSTAMP:20260424T063025
CREATED:20250203T142028Z
LAST-MODIFIED:20250203T142028Z
UID:538-1743861600-1743868800@pvsop.nl
SUMMARY:Workshop Hanging Baskets
DESCRIPTION:Op zaterdag 29 maart en zaterdag 5 april kun je weer Hanging Baskets vullen. Tijdens deze workshop vul je onder begeleiding een Engelse hangmand. Je wordt ontvangen met koffie of thee en krijgt eerst informatie over de kwekerij en uitleg over de verzorging van de hanging basket. Daarna ga je zelf aan de slag. Je werkt met éénjarige jonge zomerbloeiers\, teeltaarde\, meststoffen en een grote hanging basket. De planten waarmee je werkt\, zijn tijdens de workshop nog in het stekstadium. Je kunt kiezen uit een ruim assortiment zomerbloeiers met foto’s en namen erbij\, zodat je alvast een mooie kleurencombinatie kunt samenstellen\, ondanks dat het nog stekjes zijn! Tussendoor krijg je tips en aanwijzingen.\n\nAan het einde van de workshop kun je ervoor kiezen om je hanging basket bij ons in de kwekerij te laten. Wij zorgen er dan nog zo’n anderhalve maand voor\, omdat het buiten nog te koud is. Net voor Moederdag (begin mei) kun je je hanging basket ophalen. Je zult versteld staan van het resultaat!\n\nDe workshop duurt ongeveer twee uur en kost normaal €40\,00 per persoon\, maar als lid betaal je maar € 25. Dit is inclusief een hanging basket\, 16 stekken\, teeltaarde\, basismeststof\, koffie/thee en advies en begeleiding. En natuurlijk de anderhalve maand verzorging!
URL:https://pvsop.nl/event/workshop-hanging-baskets-2/
LOCATION:Kwekerij Van Oostwaard\, De Akkers 17\, Zuidbroek\, 9636 CB\, Nederland
ATTACH;FMTTYPE=image/webp:https://pvsop.nl/wp-content/uploads/2024/02/54b4921ddea3aaa1d1a1b7663d668de5aebe1299.webp
ORGANIZER;CN="PVSOP":MAILTO:klantenservice@companypass.nl
END:VEVENT
BEGIN:VEVENT
DTSTART;TZID=UTC:20250329T140000
DTEND;TZID=UTC:20250329T160000
DTSTAMP:20260424T063025
CREATED:20250203T141522Z
LAST-MODIFIED:20250203T141522Z
UID:532-1743256800-1743264000@pvsop.nl
SUMMARY:Workshop Hanging baskets
DESCRIPTION:Op zaterdag 29 maart en zaterdag 5 april kun je weer Hanging Baskets vullen. Tijdens deze workshop vul je onder begeleiding een Engelse hangmand. Je wordt ontvangen met koffie of thee en krijgt eerst informatie over de kwekerij en uitleg over de verzorging van de hanging basket. Daarna ga je zelf aan de slag. Je werkt met éénjarige jonge zomerbloeiers\, teeltaarde\, meststoffen en een grote hanging basket. De planten waarmee je werkt\, zijn tijdens de workshop nog in het stekstadium. Je kunt kiezen uit een ruim assortiment zomerbloeiers met foto’s en namen erbij\, zodat je alvast een mooie kleurencombinatie kunt samenstellen\, ondanks dat het nog stekjes zijn! Tussendoor krijg je tips en aanwijzingen.\n\nAan het einde van de workshop kun je ervoor kiezen om je hanging basket bij ons in de kwekerij te laten. Wij zorgen er dan nog zo’n anderhalve maand voor\, omdat het buiten nog te koud is. Net voor Moederdag (begin mei) kun je je hanging basket ophalen. Je zult versteld staan van het resultaat!\n\nDe workshop duurt ongeveer twee uur en kost normaal €40\,00 per persoon\, maar als lid betaal je maar € 25. Dit is inclusief een hanging basket\, 16 stekken\, teeltaarde\, basismeststof\, koffie/thee en advies en begeleiding. En natuurlijk de anderhalve maand verzorging!
URL:https://pvsop.nl/event/workshop-hanging-baskets/
LOCATION:Kwekerij Van Oostwaard\, De Akkers 17\, Zuidbroek\, 9636 CB\, Nederland
ATTACH;FMTTYPE=image/webp:https://pvsop.nl/wp-content/uploads/2024/02/54b4921ddea3aaa1d1a1b7663d668de5aebe1299.webp
ORGANIZER;CN="PVSOP":MAILTO:klantenservice@companypass.nl
END:VEVENT
BEGIN:VEVENT
DTSTART;TZID=UTC:20240530T200000
DTEND;TZID=UTC:20240530T200000
DTSTAMP:20260424T063025
CREATED:20240220T123530Z
LAST-MODIFIED:20240220T123530Z
UID:449-1717099200-1717099200@pvsop.nl
SUMMARY:Musical Jesus Christ Superstar
DESCRIPTION:De indrukwekkende musical Jesus Christ Superstar komt terug naar Martiniplaza Theater en hoe! De onvergetelijke tekst en muziek van Tim Rice en Andrew Lloyd Webber vormen – samen met een live orkest – de basis voor dit volledig in het Engels gezongen theaterspektakel. \nSOP-lid: 48\,50\nintroducee: 56\,50\nniet-lid: 65\,00\n\nHet is op donderdag 30 mei 2024\, 20.00 uur in Martiniplaza in Groningen. \nDe plaatsten zijn 1e rang (rij 1 op het balkon)
URL:https://pvsop.nl/event/musical-jesus-christ-superstar/
LOCATION:Matiniplaza Theater\, Leonard Springerlaan 2\, Groningen\, 9727 KB\, Nederland
CATEGORIES:Evenement
ATTACH;FMTTYPE=image/webp:https://pvsop.nl/wp-content/uploads/2024/02/820ec4a33999f5fc200bc7e769c3c016c0c5c306.webp
END:VEVENT
BEGIN:VEVENT
DTSTART;TZID=UTC:20240529T190000
DTEND;TZID=UTC:20240529T210000
DTSTAMP:20260424T063025
CREATED:20240220T123348Z
LAST-MODIFIED:20240220T123348Z
UID:445-1717009200-1717016400@pvsop.nl
SUMMARY:Workshop Flessentuin maken
DESCRIPTION:In deze workshop gaan we aan de slag met het maken van je eigen ecotuin in een fles. Doordat we verschillende lagen opbouwen voordat de plantjes worden gepoot\, creëer je een ecosysteem waarin alles aanwezig is. Zo hoef je nooit meer naar je plantjes om te kijken! \nHeb je je al eens afgevraagd hoe al die ‘ingrediënten’ in de fles worden gestopt? Ervaar het zelf! Na afloop neem je je groene tuintje mee naar huis\, om heel lang van te kunnen genieten! \nAls PVSOP Lid kun je hierbij zijn voor maar € 30 in plaats van € 44. \nInformatie voor de activiteit \n\nWaar: Woldwijckcentrum\, Pleiaden 21 te Hoogezand\nWanneer: woensdagavond 29 mei van 19:00 – 21:00\nJouw naam + onderstaande nummer is je toegangsbewijs voor de workshop
URL:https://pvsop.nl/event/workshop-flessentuin-maken/
LOCATION:Woldwijckcentrum\, Pleiaden 21\, Hoogezand\, 9602 KD\, Nederland
CATEGORIES:Evenement
ATTACH;FMTTYPE=image/webp:https://pvsop.nl/wp-content/uploads/2024/02/2300ce2f40327b5d2022dfd4401f7a2fae8704a7.webp
END:VEVENT
BEGIN:VEVENT
DTSTART;TZID=UTC:20240515T190000
DTEND;TZID=UTC:20240515T213000
DTSTAMP:20260424T063025
CREATED:20240220T123111Z
LAST-MODIFIED:20240220T123111Z
UID:443-1715799600-1715808600@pvsop.nl
SUMMARY:Workshop Vrolijke dieren schilderen
DESCRIPTION:Deze workshop is en blijft ontzettend leuk voor zowel gevorderden als beginners. Door de verscheidenheid aan kleuren\, de variatie aan taferelen en de gezelligheid die de dames uitstralen\, gegarandeerd een succes! \nAls PVSOP Lid kun je hierbij zijn voor maar € 25 in plaats van € 35. \nInclusief: materialen\, koffie\, thee en iets lekkers \nInformatie voor de activiteit \n\nWaar: Boterdiep 111 te Groningen\nWanneer: woensdagavond 15 mei van 19:00 – 21:30\nJouw naam + ordernummer is je toegangsbewijs voor de workshop
URL:https://pvsop.nl/event/workshop-vrolijke-dieren-schilderen/
LOCATION:Boterdiep 111\, 9712 LM Groningen\, Boterdiep 111\, Groningen\, 9712 LM\, Nederland
CATEGORIES:Evenement
ATTACH;FMTTYPE=image/webp:https://pvsop.nl/wp-content/uploads/2024/02/c93dc82899d376919d98d8ee0265a29d7631ce43.webp
END:VEVENT
BEGIN:VEVENT
DTSTART;TZID=UTC:20240515T190000
DTEND;TZID=UTC:20240515T213000
DTSTAMP:20260424T063025
CREATED:20240220T122819Z
LAST-MODIFIED:20240220T122950Z
UID:438-1715799600-1715808600@pvsop.nl
SUMMARY:Workshop Dikke dames schilderen
DESCRIPTION:Deze workshop is en blijft ontzettend leuk voor zowel gevorderden als beginners. Door de verscheidenheid aan kleuren\, de variatie aan taferelen en de gezelligheid die de dames uitstralen\, gegarandeerd een succes! \nAls PVSOP Lid kun je hierbij zijn voor maar € 25 in plaats van € 35. \nInclusief: materialen\, koffie\, thee en iets lekkers \nInformatie voor de activiteit \n\nWaar: Boterdiep 111 te Groningen\nWanneer: woensdagavond 15 mei van 19:00 – 21:30\nJouw naam + ordernummer is je toegangsbewijs voor de workshop
URL:https://pvsop.nl/event/workshop-dikke-dames-of-vrolijke-dieren-schilderen/
LOCATION:Boterdiep 111\, 9712 LM Groningen\, Boterdiep 111\, Groningen\, 9712 LM\, Nederland
CATEGORIES:Evenement
ATTACH;FMTTYPE=image/webp:https://pvsop.nl/wp-content/uploads/2024/02/c93dc82899d376919d98d8ee0265a29d7631ce43.webp
END:VEVENT
BEGIN:VEVENT
DTSTART;TZID=UTC:20240418T190000
DTEND;TZID=UTC:20240418T223000
DTSTAMP:20260424T063025
CREATED:20240220T122628Z
LAST-MODIFIED:20240220T122916Z
UID:434-1713466800-1713479400@pvsop.nl
SUMMARY:Workshop Pop Art schilderen
DESCRIPTION:Schilder je eigen foto! Tijdens deze workshop maken de deelnemers een geschilderd portret van zichzelf\, in de stijl van Pop Art. Pop Art is een kunststroming waarin heldere kleuren worden gebruikt en een beperkt palet\, om een soort vervreemde afbeeldingen te creëeren. \nAls PVSOP Lid kun je hierbij zijn voor maar € 25 in plaats van € 36. \nInclusief: materialen\, koffie\, thee en iets lekkers \nInformatie voor de activiteit \n\nWaar: Boterdiep 111 te Groningen\nWanneer: donderdagavond 18 april van 19:00 – 22:30\nJouw naam + ordernummer is je toegangsbewijs voor de workshop
URL:https://pvsop.nl/event/workshop-pop-art-schilderen/
LOCATION:Boterdiep 111\, 9712 LM Groningen\, Boterdiep 111\, Groningen\, 9712 LM\, Nederland
CATEGORIES:Evenement
ATTACH;FMTTYPE=image/webp:https://pvsop.nl/wp-content/uploads/2024/02/74903ea7256677c99b2b4fdeef93441a8158d26f.webp
END:VEVENT
BEGIN:VEVENT
DTSTART;TZID=UTC:20240413T140000
DTEND;TZID=UTC:20240413T140000
DTSTAMP:20260424T063025
CREATED:20240220T122101Z
LAST-MODIFIED:20240220T122101Z
UID:432-1713016800-1713016800@pvsop.nl
SUMMARY:Hanging Baskets
DESCRIPTION:Tijdens deze workshop vul je onder begeleiding een Engelse hangmand. Er wordt gewerkt met éénjarige jonge zomerbloeiers\, teeltaarde\, meststoffen en een grote hanging basket. De planten waarmee gewerkt wordt\, zijn tijdens de workshop nog in het stekstadium. Er kan een keuze worden gemaakt uit een ruim assortiment zomerbloeiers waar foto’s en namen bij weergegeven staan. Zo kan er al een mooie kleurencombinatie gekozen worden\, ondanks dat het nog stekjes zijn! Tussendoor krijg je tips en aanwijzingen. \nAan het einde van de workshop zullen de gevulde hanging baskets bij ons in de kwekerij opgehangen worden (dit is optioneel!). Zij zullen nog zo’n anderhalve maand voor de hanging baskets zorgen\, omdat het buiten nog te koud is. Net voor Moederdag (begin mei) kan de hanging basket opgehaald worden. Je zult versteld staan! \nVoorwaarden \nAls PVSOP Lid kun je hierbij zijn voor maar €22\,50 in plaats van €37\,50. \nKan men niet bij de workshopdagen zijn dan kan men zelf contact met van oostwaard opnemen en voor het volle bedrag een mand bij hun halen. \nDe workshop duurt ongeveer twee uur. De prijs is inclusief hanging basket\, 16 stekken\, teeltaarde\, basismeststof\, koffie/thee en advies en begeleiding. En uiteraard de anderhalve maand verzorging! \nDatum\nZaterdag 13 april vanaf 14.00u \nLocatie\nKwekerij VOF Van Oostwaard - De Akkers 17 -  Zuidbroek – Tel.: 0651-854872\nDe ophaaldagen worden nog bekend gemaakt.
URL:https://pvsop.nl/event/hanging-baskets-2/
LOCATION:Kwekerij Van Oostwaard\, De Akkers 17\, Zuidbroek\, 9636 CB\, Nederland
CATEGORIES:Evenement
ATTACH;FMTTYPE=image/webp:https://pvsop.nl/wp-content/uploads/2024/02/54b4921ddea3aaa1d1a1b7663d668de5aebe1299.webp
END:VEVENT
BEGIN:VEVENT
DTSTART;TZID=UTC:20240406T140000
DTEND;TZID=UTC:20240406T140000
DTSTAMP:20260424T063025
CREATED:20240220T121854Z
LAST-MODIFIED:20240220T121854Z
UID:427-1712412000-1712412000@pvsop.nl
SUMMARY:Hanging Baskets
DESCRIPTION:Tijdens deze workshop vul je onder begeleiding een Engelse hangmand. Er wordt gewerkt met éénjarige jonge zomerbloeiers\, teeltaarde\, meststoffen en een grote hanging basket. De planten waarmee gewerkt wordt\, zijn tijdens de workshop nog in het stekstadium. Er kan een keuze worden gemaakt uit een ruim assortiment zomerbloeiers waar foto’s en namen bij weergegeven staan. Zo kan er al een mooie kleurencombinatie gekozen worden\, ondanks dat het nog stekjes zijn! Tussendoor krijg je tips en aanwijzingen. \nAan het einde van de workshop zullen de gevulde hanging baskets bij ons in de kwekerij opgehangen worden (dit is optioneel!). Zij zullen nog zo’n anderhalve maand voor de hanging baskets zorgen\, omdat het buiten nog te koud is. Net voor Moederdag (begin mei) kan de hanging basket opgehaald worden. Je zult versteld staan! \nVoorwaarden \nAls PVSOP Lid kun je hierbij zijn voor maar €22\,50 in plaats van €37\,50. \nKan men niet bij de workshopdagen zijn dan kan men zelf contact met van oostwaard opnemen en voor het volle bedrag een mand bij hun halen. \nDe workshop duurt ongeveer twee uur. De prijs is inclusief hanging basket\, 16 stekken\, teeltaarde\, basismeststof\, koffie/thee en advies en begeleiding. En uiteraard de anderhalve maand verzorging! \nDatum\nZaterdag 6 april vanaf 14.00u \nLocatie\nKwekerij VOF Van Oostwaard - De Akkers 17 -  Zuidbroek – Tel.: 0651-854872\nDe ophaaldagen worden nog bekend gemaakt.
URL:https://pvsop.nl/event/hanging-baskets/
LOCATION:Kwekerij Van Oostwaard\, De Akkers 17\, Zuidbroek\, 9636 CB\, Nederland
CATEGORIES:Evenement
ATTACH;FMTTYPE=image/webp:https://pvsop.nl/wp-content/uploads/2024/02/54b4921ddea3aaa1d1a1b7663d668de5aebe1299.webp
END:VEVENT
BEGIN:VEVENT
DTSTART;TZID=UTC:20240321T200000
DTEND;TZID=UTC:20240321T200000
DTSTAMP:20260424T063025
CREATED:20240220T121541Z
LAST-MODIFIED:20240220T121541Z
UID:418-1711051200-1711051200@pvsop.nl
SUMMARY:Mamma Mia
DESCRIPTION:De muziek van ABBA is nog altijd immens populair\, hoog tijd voor een gloednieuwe versie van MAMMA MIA! Een feest met de grootste hits van ABBA in een heerlijk verhaal vol romantiek en humor. Met o.a. Brigitte Heitzer als Donna en René van Kooten als Sam. \nAls PVSOP Lid kun je hierbij zijn voor maar € 45\,00 in plaats van € 61\,20. \nDonderdag 21 maart 2024 om 20:00 is de voorstelling in het Martiniplaza Theater. \nContact: \nInfo@pvsop.nl
URL:https://pvsop.nl/event/mamma-mia/
LOCATION:Matiniplaza Theater\, Leonard Springerlaan 2\, Groningen\, 9727 KB\, Nederland
CATEGORIES:Evenement
ATTACH;FMTTYPE=image/webp:https://pvsop.nl/wp-content/uploads/2024/02/18b8972ec0f1b9e204f4abecdb8f1a97ebc56333.webp
END:VEVENT
END:VCALENDAR