BEGIN:VCALENDAR
VERSION:2.0
PRODID:-//Personeelsvereniging SOP - ECPv6.15.20//NONSGML v1.0//EN
CALSCALE:GREGORIAN
METHOD:PUBLISH
X-WR-CALNAME:Personeelsvereniging SOP
X-ORIGINAL-URL:https://pvsop.nl
X-WR-CALDESC:Evenementen voor Personeelsvereniging SOP
REFRESH-INTERVAL;VALUE=DURATION:PT1H
X-Robots-Tag:noindex
X-PUBLISHED-TTL:PT1H
BEGIN:VTIMEZONE
TZID:UTC
BEGIN:STANDARD
TZOFFSETFROM:+0000
TZOFFSETTO:+0000
TZNAME:UTC
DTSTART:20250101T000000
END:STANDARD
END:VTIMEZONE
BEGIN:VEVENT
DTSTART;TZID=UTC:20260507T200000
DTEND;TZID=UTC:20260507T220000
DTSTAMP:20260423T215823
CREATED:20251128T104915Z
LAST-MODIFIED:20260305T110906Z
UID:586-1778184000-1778191200@pvsop.nl
SUMMARY:Hairspray – De feel good musical van 2026
DESCRIPTION:Beleef het muzikale spektakel Hairspray in 2026! Deze energieke feel good musical neemt je mee naar 1962\, waar de vrolijke Tracy Turnblad haar droom om te dansen op tv waarmaakt – en onderweg strijdt voor gelijkheid en inclusie. \nMet een sterrencast waaronder Richard Groenendijk\, Nurlaila Karim\, Tamar Floor en Rein van Duivenboden\, spetterende dansmoves en kleurrijke kostuums is Hairspray een feest voor oog en oor. \nEen hartverwarmende voorstelling over durven dromen\, jezelf zijn en een wereld waarin iedereen meetelt. Laat je meevoeren door de onweerstaanbare muziek en het aanstekelijke optimisme – stilzitten is geen optie! \nAls lid van de personeelsvereniging betaal je geen € 61\,20 maar € 45\,50 \nDatum: Donderdag 7 mei om 20:00 uur\nPlaats: MartiniPlaza\nInclusief: Pauzedrankje en garderobe \nNAAR DE AANBIEDING >
URL:https://pvsop.nl/event/586/
LOCATION:Matiniplaza Theater\, Leonard Springerlaan 2\, Groningen\, 9727 KB\, Nederland
ATTACH;FMTTYPE=image/jpeg:https://pvsop.nl/wp-content/uploads/2025/11/Hairspray-lg-foto-Roy-Beusker-beeldmerk-Rob-Jacobs-scaled-nwkl.jpg
ORGANIZER;CN="PVSOP":MAILTO:klantenservice@companypass.nl
END:VEVENT
BEGIN:VEVENT
DTSTART;TZID=UTC:20260508T183000
DTEND;TZID=UTC:20260508T203000
DTSTAMP:20260423T215823
CREATED:20260305T103403Z
LAST-MODIFIED:20260305T103420Z
UID:612-1778265000-1778272200@pvsop.nl
SUMMARY:Clinic Padel
DESCRIPTION:Een leuke sportieve avond middels een padel clinic met twee ervaren trainers! Als afsluiter een leuk eindtoernooi onderling. \nAls lid van de personeelsvereniging betaal je geen € 34\,00 maar € 20\,00 \nDatum: Vrijdag 8 mei\nTijd :  aanvang 18.30uur\nLocatie/ plaats: The Padellers Groningen \nNAAR DE AANBIEDING >
URL:https://pvsop.nl/event/612/
LOCATION:The Padellers Groningen
ATTACH;FMTTYPE=image/jpeg:https://pvsop.nl/wp-content/uploads/2026/03/z8pW5PxTZW5TsLzafG2APbM4AAVu3NX3Sa8vWeLY.jpg
END:VEVENT
BEGIN:VEVENT
DTSTART;TZID=UTC:20260604T200000
DTEND;TZID=UTC:20260604T220000
DTSTAMP:20260423T215823
CREATED:20251128T111437Z
LAST-MODIFIED:20251128T111437Z
UID:598-1780603200-1780610400@pvsop.nl
SUMMARY:West Side Story
DESCRIPTION:West Side Story\, één van de grootste musicals aller tijden\, keert in 2026 terug naar het theater! In de rauwe straten van New York bloeit een verboden liefde op tussen Tony en Maria – midden in het geweld tussen de rivaliserende bendes Jets en Sharks. \nGebaseerd op Romeo en Julia\, brengt deze klassieker een krachtig verhaal over liefde\, verlies en hoop\, ondersteund door een groot live orkest en iconische songs als Maria\, Tonight\, America en I Feel Pretty. \nMet adembenemende choreografieën\, meeslepende muziek en een cast die je raakt\, is West Side Story een onvergetelijke theaterervaring die je niet mag missen! \nAls lid van de personeelsvereniging betaal je geen € 91\,20 maar € 68 \nDatum: Donderdag 4 juni om 20:00 uur\nPlaats: MartiniPlaza\nInclusief: Pauzedrankje en garderobe \nNAAR DE AANBIEDING >
URL:https://pvsop.nl/event/west-side-story/
LOCATION:Matiniplaza Theater\, Leonard Springerlaan 2\, Groningen\, 9727 KB\, Nederland
ATTACH;FMTTYPE=image/jpeg:https://pvsop.nl/wp-content/uploads/2025/11/westsidestory1nw.jpg
END:VEVENT
BEGIN:VEVENT
DTSTART;TZID=UTC:20260613T120000
DTEND;TZID=UTC:20260613T233000
DTSTAMP:20260423T215823
CREATED:20260305T105837Z
LAST-MODIFIED:20260305T105837Z
UID:621-1781352000-1781393400@pvsop.nl
SUMMARY:Hello Festival
DESCRIPTION:Hello Festival is hét no-nonsense festival waar bezoekers en artiesten samenkomen voor een dag vol muziek\, dans en plezier. Een beetje een reünie\, maar dan met livemuziek\, zomerse vibes en bourgondische gezelligheid. Drents trots op z’n best! \nOp zaterdag 13 juni 2026 verzamelen we ons aan de Grote Rietplas in Emmen voor een onvergetelijke festivaldag. Of je nu komt voor de sfeer\, de muziek of het samen genieten met collega’s en vrienden\, dit wordt een dag om naar uit te kijken. \nWe zien jullie graag op zaterdag 13 juni 2026 aan de Grote Rietplas in Emmen. \nEr zijn 20 tickets in optie – op = op!
URL:https://pvsop.nl/event/hello-festival/
LOCATION:Grote Rietplas Emmen
ATTACH;FMTTYPE=image/jpeg:https://pvsop.nl/wp-content/uploads/2026/03/fe19e67d1e1fdac49a0f855db8e6dec2c245359e.jpg
END:VEVENT
BEGIN:VEVENT
DTSTART;TZID=UTC:20260812T201500
DTEND;TZID=UTC:20260812T230000
DTSTAMP:20260423T215823
CREATED:20260305T110305Z
LAST-MODIFIED:20260305T110417Z
UID:625-1786565700-1786575600@pvsop.nl
SUMMARY:Zummerbuhne
DESCRIPTION:In het Groningse Oldambt raakt de activistische vader Ludo steeds dieper verwikkeld in het verzet tegen de machtige herenboeren. Wanneer Ludo het initiatief neemt tot een massale staking\, komen idealen\, verlangens en belangen frontaal met elkaar in botsing. \nDe staking groeit uit tot de langste in de Nederlandse geschiedenis. Wat begint als een hoopvolle strijd voor rechtvaardigheid\, verandert in een verhaal van persoonlijk verlies\, morele dilemma’s en meedogenloos geweld. De gevolgen reiken verder dan één generatie en zijn tot op de dag van vandaag voelbaar. Maar wie zijn de daders\, wie de slachtoffers? En wie bepaalt uiteindelijk hoe de geschiedenis wordt verteld? \nGraag bij aanmelding een privé emailadres opgeven.
URL:https://pvsop.nl/event/zummerbuhne/
LOCATION:Polderweg 28\, 9682 XS Oostwold
ATTACH;FMTTYPE=image/jpeg:https://pvsop.nl/wp-content/uploads/2026/03/7a6f244a6d8dbbf0a9620dd2f0fa778d9abbb8a9.jpg
END:VEVENT
BEGIN:VEVENT
DTSTART;TZID=UTC:20260903T201500
DTEND;TZID=UTC:20260903T230000
DTSTAMP:20260423T215823
CREATED:20260305T110613Z
LAST-MODIFIED:20260305T110613Z
UID:630-1788466500-1788476400@pvsop.nl
SUMMARY:Zummerbuhne
DESCRIPTION:In het Groningse Oldambt raakt de activistische vader Ludo steeds dieper verwikkeld in het verzet tegen de machtige herenboeren. Wanneer Ludo het initiatief neemt tot een massale staking\, komen idealen\, verlangens en belangen frontaal met elkaar in botsing. \nDe staking groeit uit tot de langste in de Nederlandse geschiedenis. Wat begint als een hoopvolle strijd voor rechtvaardigheid\, verandert in een verhaal van persoonlijk verlies\, morele dilemma’s en meedogenloos geweld. De gevolgen reiken verder dan één generatie en zijn tot op de dag van vandaag voelbaar. Maar wie zijn de daders\, wie de slachtoffers? En wie bepaalt uiteindelijk hoe de geschiedenis wordt verteld? \nGraag bij aanmelding een privé emailadres opgeven.
URL:https://pvsop.nl/event/zummerbuhne-2/
LOCATION:Polderweg 28\, 9682 XS Oostwold
ATTACH;FMTTYPE=image/jpeg:https://pvsop.nl/wp-content/uploads/2026/03/7a6f244a6d8dbbf0a9620dd2f0fa778d9abbb8a9.jpg
END:VEVENT
BEGIN:VEVENT
DTSTART;TZID=UTC:20260905T120000
DTEND;TZID=UTC:20260906T000000
DTSTAMP:20260423T215823
CREATED:20260305T104648Z
LAST-MODIFIED:20260305T104648Z
UID:617-1788609600-1788652800@pvsop.nl
SUMMARY:Hallabaloo Festival
DESCRIPTION:Hullabaloo Festival is hét muziekfestival in Groningen waar grote nationale en internationale artiesten samenkomen voor een dag vol live muziek\, sfeer en beleving. Op zaterdag 5 september staan onder andere Lewis Capaldi\, BLØF en LUNA op het podium. Met meerdere stages\, een sterke line-up en een gezellige festivalsfeer is Hullabaloo een perfecte dag uit voor muziekliefhebbers. \n• Er zijn 50 tickets beschikbaar voor zaterdag 5 september• Op = op• Bekijk de volledige line-up op www.hullabaloofestival.nl
URL:https://pvsop.nl/event/hallabaloo-festival/
LOCATION:Stadspark Groningen
ATTACH;FMTTYPE=image/jpeg:https://pvsop.nl/wp-content/uploads/2026/03/image-3.jpg
END:VEVENT
END:VCALENDAR