BEGIN:VCALENDAR
VERSION:2.0
PRODID:-//Personeelsvereniging SOP - ECPv6.15.20//NONSGML v1.0//EN
CALSCALE:GREGORIAN
METHOD:PUBLISH
X-WR-CALNAME:Personeelsvereniging SOP
X-ORIGINAL-URL:https://pvsop.nl
X-WR-CALDESC:Evenementen voor Personeelsvereniging SOP
REFRESH-INTERVAL;VALUE=DURATION:PT1H
X-Robots-Tag:noindex
X-PUBLISHED-TTL:PT1H
BEGIN:VTIMEZONE
TZID:UTC
BEGIN:STANDARD
TZOFFSETFROM:+0000
TZOFFSETTO:+0000
TZNAME:UTC
DTSTART:20250101T000000
END:STANDARD
END:VTIMEZONE
BEGIN:VEVENT
DTSTART;TZID=UTC:20260402T193000
DTEND;TZID=UTC:20260402T220000
DTSTAMP:20260423T191954
CREATED:20260305T111049Z
LAST-MODIFIED:20260305T111049Z
UID:635-1775158200-1775167200@pvsop.nl
SUMMARY:Workshop Aquarel Schilderen
DESCRIPTION:Tijdens deze aquarelworkshop ga je werken met watercolour\, oftewel aquarelverf. Je leert hoe je kleuren intenser of juist zachter maakt door het gebruik van water\, hoe je in lagen werkt en hoe je kleuren mengt. Je kiest zelf wat je wilt schilderen\, zoals landschappen\, bloemen\, planten of dieren. De workshop is toegankelijk voor alle niveaus\, ook als je nog geen ervaring hebt. Door te werken met veel water leer je los te laten en te schilderen vanuit vlekken. Met inspirerende voorbeelden en ruimte voor eigen creativiteit ga je naar huis met één of meerdere mooie aquarelwerken.
URL:https://pvsop.nl/event/workshop-aquarel-schilderen/
LOCATION:Folkingestraat 9B\, Groningen
ATTACH;FMTTYPE=image/jpeg:https://pvsop.nl/wp-content/uploads/2026/03/ed00418d9acc1a1d340e837f0ce7c6279831eabd.jpg
END:VEVENT
END:VCALENDAR