BEGIN:VCALENDAR
VERSION:2.0
PRODID:-//Personeelsvereniging SOP - ECPv6.15.20//NONSGML v1.0//EN
CALSCALE:GREGORIAN
METHOD:PUBLISH
X-WR-CALNAME:Personeelsvereniging SOP
X-ORIGINAL-URL:https://pvsop.nl
X-WR-CALDESC:Evenementen voor Personeelsvereniging SOP
REFRESH-INTERVAL;VALUE=DURATION:PT1H
X-Robots-Tag:noindex
X-PUBLISHED-TTL:PT1H
BEGIN:VTIMEZONE
TZID:UTC
BEGIN:STANDARD
TZOFFSETFROM:+0000
TZOFFSETTO:+0000
TZNAME:UTC
DTSTART:20250101T000000
END:STANDARD
END:VTIMEZONE
BEGIN:VEVENT
DTSTART;TZID=UTC:20260114T200000
DTEND;TZID=UTC:20260114T220000
DTSTAMP:20260424T012359
CREATED:20251128T105456Z
LAST-MODIFIED:20251128T105456Z
UID:589-1768420800-1768428000@pvsop.nl
SUMMARY:KLUUN Live - Help ik heb een puber!
DESCRIPTION:Kluun\, bekend van Komt een vrouw bij de dokter\, staat nu zélf op het podium met zijn voorstelling Help\, ik heb een puber!. Met humor\, zelfspot en scherpe observaties neemt hij je mee in de wereld van pubers – én hun ouders. Verwacht een avond vol herkenbare verhalen\, grappige anekdotes en ontroerende momenten\, gebaseerd op zijn eigen jeugd en ervaringen met zijn kinderen. \nOf je nu ouder bent van een puber\, een pre-puber in huis hebt of zelf ooit één was: deze voorstelling is voor iedereen die de puberteit probeert te begrijpen – of te overleven. Een avond vol lachen\, relativeren en stiekem een traantje wegpinken. Niet te missen! \nAls lid van de personeelsvereniging betaal je geen € 33\,70 maar € 25 \nDatum: Woensdag 14 januari om 20:00 uur\nPlaats: MartiniPlaza\nInclusief: Garderobe \nNAAR DE AANBIEDING >
URL:https://pvsop.nl/event/kluun-live-help-ik-heb-een-puber/
LOCATION:Matiniplaza Theater\, Leonard Springerlaan 2\, Groningen\, 9727 KB\, Nederland
ATTACH;FMTTYPE=image/jpeg:https://pvsop.nl/wp-content/uploads/2025/11/KLUUN-Help-ik-heb-een-puber.jpeg
ORGANIZER;CN="PVSOP":MAILTO:klantenservice@companypass.nl
END:VEVENT
END:VCALENDAR