BEGIN:VCALENDAR
VERSION:2.0
PRODID:-//Personeelsvereniging SOP - ECPv6.15.20//NONSGML v1.0//EN
CALSCALE:GREGORIAN
METHOD:PUBLISH
X-WR-CALNAME:Personeelsvereniging SOP
X-ORIGINAL-URL:https://pvsop.nl
X-WR-CALDESC:Evenementen voor Personeelsvereniging SOP
REFRESH-INTERVAL;VALUE=DURATION:PT1H
X-Robots-Tag:noindex
X-PUBLISHED-TTL:PT1H
BEGIN:VTIMEZONE
TZID:UTC
BEGIN:STANDARD
TZOFFSETFROM:+0000
TZOFFSETTO:+0000
TZNAME:UTC
DTSTART:20240101T000000
END:STANDARD
END:VTIMEZONE
BEGIN:VEVENT
DTSTART;TZID=UTC:20251220T200000
DTEND;TZID=UTC:20251220T220000
DTSTAMP:20260424T011408
CREATED:20251128T101636Z
LAST-MODIFIED:20251128T101727Z
UID:579-1766260800-1766268000@pvsop.nl
SUMMARY:BREL de Musical
DESCRIPTION:BREL – de musical brengt het leven en werk van de legendarische Jacques Brel op indrukwekkende wijze tot leven. Na eerdere biografische successen over o.a. Piaf en Sonneveld\, is het nu tijd voor een ode aan de meester van het Franse chanson. Sjors van der Panne vertolkt de titelrol en zingt iconische nummers als Ne me quitte pas\, Bruxelles en Amsterdam. \nDe voorstelling\, met zeven acteurs en drie muzikanten\, dompelt je onder in Brels wereld van pure emotie\, liefde en verlangen. Een krachtige mix van muziek\, poëzie en theater\, geregisseerd door Servé Hermans en geschreven door André Breedland. Perfect voor liefhebbers van het Franse chanson én voor een nieuwe generatie die Brel wil ontdekken. Een onvergetelijke avond vol muzikale diepgang. \nDatum: Zaterdag 20 december om 20:00 uur\nPlaats: MartiniPlaza\nInclusief: Pauzedrankje en garderobe \nAls lid van de personeelsvereniging betaal je geen € 49\,70 maar € 37 \nNAAR DE AANBIEDING >
URL:https://pvsop.nl/event/brel-de-musical/
LOCATION:Matiniplaza Theater\, Leonard Springerlaan 2\, Groningen\, 9727 KB\, Nederland
ATTACH;FMTTYPE=image/jpeg:https://pvsop.nl/wp-content/uploads/2025/11/Brel1.jpg
ORGANIZER;CN="PVSOP":MAILTO:klantenservice@companypass.nl
END:VEVENT
END:VCALENDAR