BEGIN:VCALENDAR
VERSION:2.0
PRODID:-//Personeelsvereniging SOP - ECPv6.15.20//NONSGML v1.0//EN
CALSCALE:GREGORIAN
METHOD:PUBLISH
X-WR-CALNAME:Personeelsvereniging SOP
X-ORIGINAL-URL:https://pvsop.nl
X-WR-CALDESC:Evenementen voor Personeelsvereniging SOP
REFRESH-INTERVAL;VALUE=DURATION:PT1H
X-Robots-Tag:noindex
X-PUBLISHED-TTL:PT1H
BEGIN:VTIMEZONE
TZID:UTC
BEGIN:STANDARD
TZOFFSETFROM:+0000
TZOFFSETTO:+0000
TZNAME:UTC
DTSTART:20250101T000000
END:STANDARD
END:VTIMEZONE
BEGIN:VEVENT
DTSTART;TZID=UTC:20260313T200000
DTEND;TZID=UTC:20260313T213000
DTSTAMP:20260423T210733
CREATED:20251128T100807Z
LAST-MODIFIED:20251128T101704Z
UID:575-1773432000-1773437400@pvsop.nl
SUMMARY:Bram Bakker - Oud Zeer
DESCRIPTION:In Oud zeer duikt psychiater en schrijver Bram Bakker in de emotionele nalatenschap van onze jeugd. Waarom lukt opvoeden soms niet\, ondanks de beste bedoelingen? Hoe laten afwezige vaders en overbelaste moeders sporen na? En wat betekent het écht om er emotioneel te zijn voor een kind? \nIn deze persoonlijke en confronterende voorstelling onderzoekt Bakker de impact van onze opvoeding op wie we vandaag zijn. Met openheid\, inzicht en soms wrange humor laat hij zien dat ‘oud zeer’ ons allemaal raakt. Een must-see voor ouders\, opvoeders en iedereen die zichzelf beter wil begrijpen. \n\nDatum: vrijdag 13 maart 2026\nTijd: 20.00 uur\nLocatie: MartiniPlaza\n\n\nAls lid van de personeelsvereniging betaal je geen € 28\,70 maar € 21\,50 \nNAAR DE AANBIEDING >
URL:https://pvsop.nl/event/bram-bakker-oud-zeer/
LOCATION:Matiniplaza Theater\, Leonard Springerlaan 2\, Groningen\, 9727 KB\, Nederland
ATTACH;FMTTYPE=image/jpeg:https://pvsop.nl/wp-content/uploads/2025/11/bram-bakker-oud-zeer-uitgelicht1.jpg
ORGANIZER;CN="PVSOP":MAILTO:klantenservice@companypass.nl
END:VEVENT
END:VCALENDAR