BEGIN:VCALENDAR
VERSION:2.0
PRODID:-//Personeelsvereniging SOP - ECPv6.15.20//NONSGML v1.0//EN
CALSCALE:GREGORIAN
METHOD:PUBLISH
X-WR-CALNAME:Personeelsvereniging SOP
X-ORIGINAL-URL:https://pvsop.nl
X-WR-CALDESC:Evenementen voor Personeelsvereniging SOP
REFRESH-INTERVAL;VALUE=DURATION:PT1H
X-Robots-Tag:noindex
X-PUBLISHED-TTL:PT1H
BEGIN:VTIMEZONE
TZID:UTC
BEGIN:STANDARD
TZOFFSETFROM:+0000
TZOFFSETTO:+0000
TZNAME:UTC
DTSTART:20240101T000000
END:STANDARD
END:VTIMEZONE
BEGIN:VEVENT
DTSTART;TZID=UTC:20251114T200000
DTEND;TZID=UTC:20251114T223000
DTSTAMP:20260424T011926
CREATED:20250807T100937Z
LAST-MODIFIED:20250807T101151Z
UID:560-1763150400-1763159400@pvsop.nl
SUMMARY:Beleef de magie van Live Aid – 40 jaar later\, nog steeds legendarisch
DESCRIPTION:Veertig jaar na het legendarische benefietconcert Live Aid brengen topmuzikanten een energieke en meeslepende ode aan dit iconische muziekfeest. Tribute to the Music of Live Aid neemt je mee terug naar 1985\, met de grootste hits van artiesten als Queen\, David Bowie\, U2\, Phil Collins\, Elton John\, The Who en meer. Special guest Bert Heerink deelt het podium met een topband die de tijdloze klassiekers met passie en flair tot leven brengt. Verwacht een avond vol muzikale herinneringen\, persoonlijke verhalen\, anekdotes én meezingers. Van intieme momenten tot spetterende bandnummers – dit wordt een avond vol nostalgie en kippenvel. \n  \nPlaats: MartiniPlaza\nDatum: vrijdag 14 november\nTijd: 20:00 uur \nAls lid van de personeelsvereniging betaal je geen € 36\,70 maar € 27 \nNAAR DE AANBIEDING >
URL:https://pvsop.nl/event/beleef-de-magie-van-live-aid-40-jaar-later-nog-steeds-legendarisch/
LOCATION:Matiniplaza Theater\, Leonard Springerlaan 2\, Groningen\, 9727 KB\, Nederland
ATTACH;FMTTYPE=image/jpeg:https://pvsop.nl/wp-content/uploads/2025/08/E-3.0-10-1.jpg
ORGANIZER;CN="PVSOP":MAILTO:klantenservice@companypass.nl
END:VEVENT
END:VCALENDAR